BEGIN:VCALENDAR
VERSION:2.0
PRODID:-//エフエーサービス - ECPv6.13.2//NONSGML v1.0//EN
CALSCALE:GREGORIAN
METHOD:PUBLISH
X-WR-CALNAME:エフエーサービス
X-ORIGINAL-URL:https://faservice.co.jp
X-WR-CALDESC:Events for エフエーサービス
REFRESH-INTERVAL;VALUE=DURATION:PT1H
X-Robots-Tag:noindex
X-PUBLISHED-TTL:PT1H
BEGIN:VTIMEZONE
TZID:Asia/Tokyo
BEGIN:STANDARD
TZOFFSETFROM:+0900
TZOFFSETTO:+0900
TZNAME:JST
DTSTART:20240101T000000
END:STANDARD
END:VTIMEZONE
BEGIN:VEVENT
DTSTART;TZID=Asia/Tokyo:20241220T093000
DTEND;TZID=Asia/Tokyo:20241220T173000
DTSTAMP:20260424T042643
CREATED:20240620T062443Z
LAST-MODIFIED:20240620T062444Z
UID:4355-1734687000-1734715800@faservice.co.jp
SUMMARY:MetaCAMスクール 3DCAD（オンライン）
DESCRIPTION:少人数でのMetaCAMスクール　※オンラインで開催\n【費用】\n　20\,000円/１日（税別）\n　　2DCAD/CAM/2日間コース：40\,000円（税別）\n　　3D CAD/CAM/3日間コース：60\,000円（税別）\n※　12月  12日（木）で申し込みを締め切らせて頂きます。
URL:https://faservice.co.jp/event/metacam%e3%82%b9%e3%82%af%e3%83%bc%e3%83%ab-3dcad%ef%bc%88%e3%82%aa%e3%83%b3%e3%83%a9%e3%82%a4%e3%83%b3%ef%bc%89-92/
CATEGORIES:MetaCAM school,School
END:VEVENT
BEGIN:VEVENT
DTSTART;TZID=Asia/Tokyo:20241219T093000
DTEND;TZID=Asia/Tokyo:20241219T173000
DTSTAMP:20260424T042643
CREATED:20240620T062402Z
LAST-MODIFIED:20240620T062403Z
UID:4353-1734600600-1734629400@faservice.co.jp
SUMMARY:MetaCAMスクール CAM/NESTING（オンライン）
DESCRIPTION:少人数でのMetaCAMスクール　※オンラインで開催\n【費用】\n　20\,000円/１日（税別）\n　　2DCAD/CAM/2日間コース：40\,000円（税別）\n　　3D CAD/CAM/3日間コース：60\,000円（税別）\n※　12月  12日（木）で申し込みを締め切らせて頂きます。
URL:https://faservice.co.jp/event/metacam%e3%82%b9%e3%82%af%e3%83%bc%e3%83%ab-cam-nesting%ef%bc%88%e3%82%aa%e3%83%b3%e3%83%a9%e3%82%a4%e3%83%b3%ef%bc%89-92/
CATEGORIES:MetaCAM school,School
END:VEVENT
BEGIN:VEVENT
DTSTART;TZID=Asia/Tokyo:20241218T093000
DTEND;TZID=Asia/Tokyo:20241218T173000
DTSTAMP:20260424T042643
CREATED:20240620T062325Z
LAST-MODIFIED:20240620T062325Z
UID:4351-1734514200-1734543000@faservice.co.jp
SUMMARY:MetaCAMスクール 2DCAD（オンライン）
DESCRIPTION:少人数でのMetaCAMスクール　※オンラインで開催\n【費用】\n　20\,000円/１日（税別）\n　　2DCAD/CAM/2日間コース：40\,000円（税別）\n　　3D CAD/CAM/3日間コース：60\,000円（税別）\n※　12月  12日（木）で申し込みを締め切らせて頂きます。
URL:https://faservice.co.jp/event/metacam%e3%82%b9%e3%82%af%e3%83%bc%e3%83%ab-2dcad%ef%bc%88%e3%82%aa%e3%83%b3%e3%83%a9%e3%82%a4%e3%83%b3%ef%bc%89-93/
CATEGORIES:MetaCAM school,School
END:VEVENT
BEGIN:VEVENT
DTSTART;TZID=Asia/Tokyo:20241206T093000
DTEND;TZID=Asia/Tokyo:20241206T173000
DTSTAMP:20260424T042643
CREATED:20240620T062253Z
LAST-MODIFIED:20240620T062253Z
UID:4349-1733477400-1733506200@faservice.co.jp
SUMMARY:MetaCAMスクール 3DCAD（オンライン）
DESCRIPTION:少人数でのMetaCAMスクール　※オンラインで開催\n【費用】\n　20\,000円/１日（税別）\n　　2DCAD/CAM/2日間コース：40\,000円（税別）\n　　3D CAD/CAM/3日間コース：60\,000円（税別）\n※　11月  28日（木）で申し込みを締め切らせて頂きます。
URL:https://faservice.co.jp/event/metacam%e3%82%b9%e3%82%af%e3%83%bc%e3%83%ab-3dcad%ef%bc%88%e3%82%aa%e3%83%b3%e3%83%a9%e3%82%a4%e3%83%b3%ef%bc%89-91/
CATEGORIES:MetaCAM school,School
END:VEVENT
BEGIN:VEVENT
DTSTART;TZID=Asia/Tokyo:20241205T093000
DTEND;TZID=Asia/Tokyo:20241205T173000
DTSTAMP:20260424T042643
CREATED:20240620T062214Z
LAST-MODIFIED:20240620T062215Z
UID:4347-1733391000-1733419800@faservice.co.jp
SUMMARY:MetaCAMスクール CAM/NESTING（オンライン）
DESCRIPTION:少人数でのMetaCAMスクール　※オンラインで開催\n【費用】\n　20\,000円/１日（税別）\n　　2DCAD/CAM/2日間コース：40\,000円（税別）\n　　3D CAD/CAM/3日間コース：60\,000円（税別）\n※　11月  28日（木）で申し込みを締め切らせて頂きます。
URL:https://faservice.co.jp/event/metacam%e3%82%b9%e3%82%af%e3%83%bc%e3%83%ab-cam-nesting%ef%bc%88%e3%82%aa%e3%83%b3%e3%83%a9%e3%82%a4%e3%83%b3%ef%bc%89-91/
CATEGORIES:MetaCAM school,School
END:VEVENT
BEGIN:VEVENT
DTSTART;TZID=Asia/Tokyo:20241204T093000
DTEND;TZID=Asia/Tokyo:20241204T173000
DTSTAMP:20260424T042643
CREATED:20240620T062143Z
LAST-MODIFIED:20240620T062143Z
UID:4345-1733304600-1733333400@faservice.co.jp
SUMMARY:MetaCAMスクール 2DCAD（オンライン）
DESCRIPTION:少人数でのMetaCAMスクール　※オンラインで開催\n【費用】\n　20\,000円/１日（税別）\n　　2DCAD/CAM/2日間コース：40\,000円（税別）\n　　3D CAD/CAM/3日間コース：60\,000円（税別）\n※　11月  28日（木）で申し込みを締め切らせて頂きます。
URL:https://faservice.co.jp/event/metacam%e3%82%b9%e3%82%af%e3%83%bc%e3%83%ab-2dcad%ef%bc%88%e3%82%aa%e3%83%b3%e3%83%a9%e3%82%a4%e3%83%b3%ef%bc%89-92/
CATEGORIES:MetaCAM school,School
END:VEVENT
BEGIN:VEVENT
DTSTART;TZID=Asia/Tokyo:20241122T093000
DTEND;TZID=Asia/Tokyo:20241122T173000
DTSTAMP:20260424T042643
CREATED:20240620T062107Z
LAST-MODIFIED:20240620T062107Z
UID:4343-1732267800-1732296600@faservice.co.jp
SUMMARY:MetaCAMスクール 3DCAD（オンライン）
DESCRIPTION:少人数でのMetaCAMスクール　※オンラインで開催\n【費用】\n　20\,000円/１日（税別）\n　　2DCAD/CAM/2日間コース：40\,000円（税別）\n　　3D CAD/CAM/3日間コース：60\,000円（税別）\n※　11月  14日（木）で申し込みを締め切らせて頂きます。
URL:https://faservice.co.jp/event/metacam%e3%82%b9%e3%82%af%e3%83%bc%e3%83%ab-3dcad%ef%bc%88%e3%82%aa%e3%83%b3%e3%83%a9%e3%82%a4%e3%83%b3%ef%bc%89-90/
CATEGORIES:MetaCAM school,School
END:VEVENT
BEGIN:VEVENT
DTSTART;TZID=Asia/Tokyo:20241121T093000
DTEND;TZID=Asia/Tokyo:20241121T173000
DTSTAMP:20260424T042643
CREATED:20240620T062042Z
LAST-MODIFIED:20240620T062042Z
UID:4341-1732181400-1732210200@faservice.co.jp
SUMMARY:MetaCAMスクール CAM/NESTING（オンライン）
DESCRIPTION:少人数でのMetaCAMスクール　※オンラインで開催\n【費用】\n　20\,000円/１日（税別）\n　　2DCAD/CAM/2日間コース：40\,000円（税別）\n　　3D CAD/CAM/3日間コース：60\,000円（税別）\n※　11月  14日（木）で申し込みを締め切らせて頂きます。
URL:https://faservice.co.jp/event/metacam%e3%82%b9%e3%82%af%e3%83%bc%e3%83%ab-cam-nesting%ef%bc%88%e3%82%aa%e3%83%b3%e3%83%a9%e3%82%a4%e3%83%b3%ef%bc%89-90/
CATEGORIES:MetaCAM school,School
END:VEVENT
BEGIN:VEVENT
DTSTART;TZID=Asia/Tokyo:20241120T093000
DTEND;TZID=Asia/Tokyo:20241120T173000
DTSTAMP:20260424T042643
CREATED:20240620T062007Z
LAST-MODIFIED:20240620T062007Z
UID:4338-1732095000-1732123800@faservice.co.jp
SUMMARY:MetaCAMスクール 2DCAD（オンライン）
DESCRIPTION:少人数でのMetaCAMスクール　※オンラインで開催\n【費用】\n　20\,000円/１日（税別）\n　　2DCAD/CAM/2日間コース：40\,000円（税別）\n　　3D CAD/CAM/3日間コース：60\,000円（税別）\n※　11月  14日（木）で申し込みを締め切らせて頂きます。
URL:https://faservice.co.jp/event/metacam%e3%82%b9%e3%82%af%e3%83%bc%e3%83%ab-2dcad%ef%bc%88%e3%82%aa%e3%83%b3%e3%83%a9%e3%82%a4%e3%83%b3%ef%bc%89-91/
CATEGORIES:MetaCAM school,School
END:VEVENT
BEGIN:VEVENT
DTSTART;TZID=Asia/Tokyo:20241108T093000
DTEND;TZID=Asia/Tokyo:20241108T173000
DTSTAMP:20260424T042643
CREATED:20240620T061928Z
LAST-MODIFIED:20240620T061928Z
UID:4336-1731058200-1731087000@faservice.co.jp
SUMMARY:MetaCAMスクール 3DCAD（オンライン）
DESCRIPTION:少人数でのMetaCAMスクール　※オンラインで開催\n【費用】\n　20\,000円/１日（税別）\n　　2DCAD/CAM/2日間コース：40\,000円（税別）\n　　3D CAD/CAM/3日間コース：60\,000円（税別）\n※　10月  31日（木）で申し込みを締め切らせて頂きます。
URL:https://faservice.co.jp/event/metacam%e3%82%b9%e3%82%af%e3%83%bc%e3%83%ab-3dcad%ef%bc%88%e3%82%aa%e3%83%b3%e3%83%a9%e3%82%a4%e3%83%b3%ef%bc%89-89/
CATEGORIES:MetaCAM school,School
END:VEVENT
BEGIN:VEVENT
DTSTART;TZID=Asia/Tokyo:20241107T093000
DTEND;TZID=Asia/Tokyo:20241107T173000
DTSTAMP:20260424T042643
CREATED:20240620T061901Z
LAST-MODIFIED:20240620T061901Z
UID:4334-1730971800-1731000600@faservice.co.jp
SUMMARY:MetaCAMスクール CAM/NESTING（オンライン）
DESCRIPTION:少人数でのMetaCAMスクール　※オンラインで開催\n【費用】\n　20\,000円/１日（税別）\n　　2DCAD/CAM/2日間コース：40\,000円（税別）\n　　3D CAD/CAM/3日間コース：60\,000円（税別）\n※　10月  31日（木）で申し込みを締め切らせて頂きます。
URL:https://faservice.co.jp/event/metacam%e3%82%b9%e3%82%af%e3%83%bc%e3%83%ab-cam-nesting%ef%bc%88%e3%82%aa%e3%83%b3%e3%83%a9%e3%82%a4%e3%83%b3%ef%bc%89-89/
CATEGORIES:MetaCAM school,School
END:VEVENT
BEGIN:VEVENT
DTSTART;TZID=Asia/Tokyo:20241106T093000
DTEND;TZID=Asia/Tokyo:20241106T173000
DTSTAMP:20260424T042643
CREATED:20240620T061832Z
LAST-MODIFIED:20240620T061833Z
UID:4332-1730885400-1730914200@faservice.co.jp
SUMMARY:MetaCAMスクール 2DCAD（オンライン）
DESCRIPTION:少人数でのMetaCAMスクール　※オンラインで開催\n【費用】\n　20\,000円/１日（税別）\n　　2DCAD/CAM/2日間コース：40\,000円（税別）\n　　3D CAD/CAM/3日間コース：60\,000円（税別）\n※　10月  31日（木）で申し込みを締め切らせて頂きます。
URL:https://faservice.co.jp/event/metacam%e3%82%b9%e3%82%af%e3%83%bc%e3%83%ab-2dcad%ef%bc%88%e3%82%aa%e3%83%b3%e3%83%a9%e3%82%a4%e3%83%b3%ef%bc%89-90/
CATEGORIES:MetaCAM school,School
END:VEVENT
BEGIN:VEVENT
DTSTART;TZID=Asia/Tokyo:20241025T093000
DTEND;TZID=Asia/Tokyo:20241025T173000
DTSTAMP:20260424T042643
CREATED:20240620T061530Z
LAST-MODIFIED:20240620T061530Z
UID:4330-1729848600-1729877400@faservice.co.jp
SUMMARY:MetaCAMスクール 3DCAD（オンライン）
DESCRIPTION:少人数でのMetaCAMスクール　※オンラインで開催\n【費用】\n　20\,000円/１日（税別）\n　　2DCAD/CAM/2日間コース：40\,000円（税別）\n　　3D CAD/CAM/3日間コース：60\,000円（税別）\n※　10月  17日（木）で申し込みを締め切らせて頂きます。
URL:https://faservice.co.jp/event/metacam%e3%82%b9%e3%82%af%e3%83%bc%e3%83%ab-3dcad%ef%bc%88%e3%82%aa%e3%83%b3%e3%83%a9%e3%82%a4%e3%83%b3%ef%bc%89-88/
CATEGORIES:MetaCAM school,School
END:VEVENT
BEGIN:VEVENT
DTSTART;TZID=Asia/Tokyo:20241024T093000
DTEND;TZID=Asia/Tokyo:20241024T173000
DTSTAMP:20260424T042643
CREATED:20240620T061458Z
LAST-MODIFIED:20240620T061458Z
UID:4328-1729762200-1729791000@faservice.co.jp
SUMMARY:MetaCAMスクール CAM/NESTING（オンライン）
DESCRIPTION:少人数でのMetaCAMスクール　※オンラインで開催\n【費用】\n　20\,000円/１日（税別）\n　　2DCAD/CAM/2日間コース：40\,000円（税別）\n　　3D CAD/CAM/3日間コース：60\,000円（税別）\n※　10月  17日（木）で申し込みを締め切らせて頂きます。
URL:https://faservice.co.jp/event/metacam%e3%82%b9%e3%82%af%e3%83%bc%e3%83%ab-cam-nesting%ef%bc%88%e3%82%aa%e3%83%b3%e3%83%a9%e3%82%a4%e3%83%b3%ef%bc%89-88/
CATEGORIES:MetaCAM school,School
END:VEVENT
BEGIN:VEVENT
DTSTART;TZID=Asia/Tokyo:20241023T093000
DTEND;TZID=Asia/Tokyo:20241023T173000
DTSTAMP:20260424T042643
CREATED:20240620T061419Z
LAST-MODIFIED:20240620T061419Z
UID:4326-1729675800-1729704600@faservice.co.jp
SUMMARY:MetaCAMスクール 2DCAD（オンライン）
DESCRIPTION:少人数でのMetaCAMスクール　※オンラインで開催\n【費用】\n　20\,000円/１日（税別）\n　　2DCAD/CAM/2日間コース：40\,000円（税別）\n　　3D CAD/CAM/3日間コース：60\,000円（税別）\n※　10月  17日（木）で申し込みを締め切らせて頂きます。
URL:https://faservice.co.jp/event/metacam%e3%82%b9%e3%82%af%e3%83%bc%e3%83%ab-2dcad%ef%bc%88%e3%82%aa%e3%83%b3%e3%83%a9%e3%82%a4%e3%83%b3%ef%bc%89-89/
CATEGORIES:MetaCAM school,School
END:VEVENT
BEGIN:VEVENT
DTSTART;TZID=Asia/Tokyo:20241011T093000
DTEND;TZID=Asia/Tokyo:20241011T173000
DTSTAMP:20260424T042643
CREATED:20240620T061343Z
LAST-MODIFIED:20240620T061343Z
UID:4324-1728639000-1728667800@faservice.co.jp
SUMMARY:MetaCAMスクール 3DCAD（オンライン）
DESCRIPTION:少人数でのMetaCAMスクール　※オンラインで開催\n【費用】\n　20\,000円/１日（税別）\n　　2DCAD/CAM/2日間コース：40\,000円（税別）\n　　3D CAD/CAM/3日間コース：60\,000円（税別）\n※　10月  3日（木）で申し込みを締め切らせて頂きます。
URL:https://faservice.co.jp/event/metacam%e3%82%b9%e3%82%af%e3%83%bc%e3%83%ab-3dcad%ef%bc%88%e3%82%aa%e3%83%b3%e3%83%a9%e3%82%a4%e3%83%b3%ef%bc%89-87/
CATEGORIES:MetaCAM school,School
END:VEVENT
BEGIN:VEVENT
DTSTART;TZID=Asia/Tokyo:20241010T093000
DTEND;TZID=Asia/Tokyo:20241010T173000
DTSTAMP:20260424T042643
CREATED:20240620T061307Z
LAST-MODIFIED:20240620T061308Z
UID:4322-1728552600-1728581400@faservice.co.jp
SUMMARY:MetaCAMスクール CAM/NESTING（オンライン）
DESCRIPTION:少人数でのMetaCAMスクール　※オンラインで開催\n【費用】\n　20\,000円/１日（税別）\n　　2DCAD/CAM/2日間コース：40\,000円（税別）\n　　3D CAD/CAM/3日間コース：60\,000円（税別）\n※　10月  3日（木）で申し込みを締め切らせて頂きます。
URL:https://faservice.co.jp/event/metacam%e3%82%b9%e3%82%af%e3%83%bc%e3%83%ab-cam-nesting%ef%bc%88%e3%82%aa%e3%83%b3%e3%83%a9%e3%82%a4%e3%83%b3%ef%bc%89-87/
CATEGORIES:MetaCAM school,School
END:VEVENT
BEGIN:VEVENT
DTSTART;TZID=Asia/Tokyo:20241009T093000
DTEND;TZID=Asia/Tokyo:20241009T173000
DTSTAMP:20260424T042643
CREATED:20240620T061230Z
LAST-MODIFIED:20240620T061231Z
UID:4320-1728466200-1728495000@faservice.co.jp
SUMMARY:MetaCAMスクール 2DCAD（オンライン）
DESCRIPTION:少人数でのMetaCAMスクール　※オンラインで開催\n【費用】\n　20\,000円/１日（税別）\n　　2DCAD/CAM/2日間コース：40\,000円（税別）\n　　3D CAD/CAM/3日間コース：60\,000円（税別）\n※　10月  3日（木）で申し込みを締め切らせて頂きます。
URL:https://faservice.co.jp/event/metacam%e3%82%b9%e3%82%af%e3%83%bc%e3%83%ab-2dcad%ef%bc%88%e3%82%aa%e3%83%b3%e3%83%a9%e3%82%a4%e3%83%b3%ef%bc%89-88/
CATEGORIES:MetaCAM school,School
END:VEVENT
BEGIN:VEVENT
DTSTART;TZID=Asia/Tokyo:20240927T093000
DTEND;TZID=Asia/Tokyo:20240927T173000
DTSTAMP:20260424T042643
CREATED:20240620T061147Z
LAST-MODIFIED:20240620T061148Z
UID:4318-1727429400-1727458200@faservice.co.jp
SUMMARY:MetaCAMスクール 3DCAD（オンライン）
DESCRIPTION:少人数でのMetaCAMスクール　※オンラインで開催\n【費用】\n　20\,000円/１日（税別）\n　　2DCAD/CAM/2日間コース：40\,000円（税別）\n　　3D CAD/CAM/3日間コース：60\,000円（税別）\n※　9月  19日（木）で申し込みを締め切らせて頂きます。
URL:https://faservice.co.jp/event/metacam%e3%82%b9%e3%82%af%e3%83%bc%e3%83%ab-3dcad%ef%bc%88%e3%82%aa%e3%83%b3%e3%83%a9%e3%82%a4%e3%83%b3%ef%bc%89-86/
CATEGORIES:MetaCAM school,School
END:VEVENT
BEGIN:VEVENT
DTSTART;TZID=Asia/Tokyo:20240926T093000
DTEND;TZID=Asia/Tokyo:20240926T173000
DTSTAMP:20260424T042643
CREATED:20240620T061106Z
LAST-MODIFIED:20240620T061107Z
UID:4316-1727343000-1727371800@faservice.co.jp
SUMMARY:MetaCAMスクール CAM/NESTING（オンライン）
DESCRIPTION:少人数でのMetaCAMスクール　※オンラインで開催\n【費用】\n　20\,000円/１日（税別）\n　　2DCAD/CAM/2日間コース：40\,000円（税別）\n　　3D CAD/CAM/3日間コース：60\,000円（税別）\n※　9月  19日（木）で申し込みを締め切らせて頂きます。
URL:https://faservice.co.jp/event/metacam%e3%82%b9%e3%82%af%e3%83%bc%e3%83%ab-cam-nesting%ef%bc%88%e3%82%aa%e3%83%b3%e3%83%a9%e3%82%a4%e3%83%b3%ef%bc%89-86/
CATEGORIES:MetaCAM school,School
END:VEVENT
BEGIN:VEVENT
DTSTART;TZID=Asia/Tokyo:20240925T093000
DTEND;TZID=Asia/Tokyo:20240925T173000
DTSTAMP:20260424T042643
CREATED:20240620T061039Z
LAST-MODIFIED:20240620T061039Z
UID:4314-1727256600-1727285400@faservice.co.jp
SUMMARY:MetaCAMスクール 2DCAD（オンライン）
DESCRIPTION:少人数でのMetaCAMスクール　※オンラインで開催\n【費用】\n　20\,000円/１日（税別）\n　　2DCAD/CAM/2日間コース：40\,000円（税別）\n　　3D CAD/CAM/3日間コース：60\,000円（税別）\n※　9月  19日（木）で申し込みを締め切らせて頂きます。
URL:https://faservice.co.jp/event/metacam%e3%82%b9%e3%82%af%e3%83%bc%e3%83%ab-2dcad%ef%bc%88%e3%82%aa%e3%83%b3%e3%83%a9%e3%82%a4%e3%83%b3%ef%bc%89-87/
CATEGORIES:MetaCAM school,School
END:VEVENT
BEGIN:VEVENT
DTSTART;TZID=Asia/Tokyo:20240913T093000
DTEND;TZID=Asia/Tokyo:20240913T173000
DTSTAMP:20260424T042643
CREATED:20240620T060959Z
LAST-MODIFIED:20240620T060959Z
UID:4312-1726219800-1726248600@faservice.co.jp
SUMMARY:MetaCAMスクール 3DCAD（オンライン）
DESCRIPTION:少人数でのMetaCAMスクール　※オンラインで開催\n【費用】\n　20\,000円/１日（税別）\n　　2DCAD/CAM/2日間コース：40\,000円（税別）\n　　3D CAD/CAM/3日間コース：60\,000円（税別）\n※　9月  5日（木）で申し込みを締め切らせて頂きます。
URL:https://faservice.co.jp/event/metacam%e3%82%b9%e3%82%af%e3%83%bc%e3%83%ab-3dcad%ef%bc%88%e3%82%aa%e3%83%b3%e3%83%a9%e3%82%a4%e3%83%b3%ef%bc%89-85/
CATEGORIES:MetaCAM school,School
END:VEVENT
BEGIN:VEVENT
DTSTART;TZID=Asia/Tokyo:20240912T093000
DTEND;TZID=Asia/Tokyo:20240912T173000
DTSTAMP:20260424T042643
CREATED:20240620T060913Z
LAST-MODIFIED:20240620T060914Z
UID:4310-1726133400-1726162200@faservice.co.jp
SUMMARY:MetaCAMスクール CAM/NESTING（オンライン）
DESCRIPTION:少人数でのMetaCAMスクール　※オンラインで開催\n【費用】\n　20\,000円/１日（税別）\n　　2DCAD/CAM/2日間コース：40\,000円（税別）\n　　3D CAD/CAM/3日間コース：60\,000円（税別）\n※　9月  5日（木）で申し込みを締め切らせて頂きます。
URL:https://faservice.co.jp/event/metacam%e3%82%b9%e3%82%af%e3%83%bc%e3%83%ab-cam-nesting%ef%bc%88%e3%82%aa%e3%83%b3%e3%83%a9%e3%82%a4%e3%83%b3%ef%bc%89-85/
CATEGORIES:MetaCAM school,School
END:VEVENT
BEGIN:VEVENT
DTSTART;TZID=Asia/Tokyo:20240911T093000
DTEND;TZID=Asia/Tokyo:20240911T173000
DTSTAMP:20260424T042643
CREATED:20240620T060842Z
LAST-MODIFIED:20240620T060842Z
UID:4308-1726047000-1726075800@faservice.co.jp
SUMMARY:MetaCAMスクール 2DCAD（オンライン）
DESCRIPTION:少人数でのMetaCAMスクール　※オンラインで開催\n【費用】\n　20\,000円/１日（税別）\n　　2DCAD/CAM/2日間コース：40\,000円（税別）\n　　3D CAD/CAM/3日間コース：60\,000円（税別）\n※　9月  5日（木）で申し込みを締め切らせて頂きます。
URL:https://faservice.co.jp/event/metacam%e3%82%b9%e3%82%af%e3%83%bc%e3%83%ab-2dcad%ef%bc%88%e3%82%aa%e3%83%b3%e3%83%a9%e3%82%a4%e3%83%b3%ef%bc%89-86/
CATEGORIES:MetaCAM school,School
END:VEVENT
BEGIN:VEVENT
DTSTART;TZID=Asia/Tokyo:20240823T093000
DTEND;TZID=Asia/Tokyo:20240823T173000
DTSTAMP:20260424T042643
CREATED:20240620T060758Z
LAST-MODIFIED:20240620T060758Z
UID:4305-1724405400-1724434200@faservice.co.jp
SUMMARY:MetaCAMスクール 3DCAD（オンライン）
DESCRIPTION:少人数でのMetaCAMスクール　※オンラインで開催\n【費用】\n　20\,000円/１日（税別）\n　　2DCAD/CAM/2日間コース：40\,000円（税別）\n　　3D CAD/CAM/3日間コース：60\,000円（税別）\n※　8月  15日（木）で申し込みを締め切らせて頂きます。
URL:https://faservice.co.jp/event/metacam%e3%82%b9%e3%82%af%e3%83%bc%e3%83%ab-3dcad%ef%bc%88%e3%82%aa%e3%83%b3%e3%83%a9%e3%82%a4%e3%83%b3%ef%bc%89-84/
CATEGORIES:MetaCAM school,School
END:VEVENT
BEGIN:VEVENT
DTSTART;TZID=Asia/Tokyo:20240822T093000
DTEND;TZID=Asia/Tokyo:20240822T173000
DTSTAMP:20260424T042643
CREATED:20240620T053934Z
LAST-MODIFIED:20240620T053934Z
UID:4300-1724319000-1724347800@faservice.co.jp
SUMMARY:MetaCAMスクール CAM/NESTING（オンライン）
DESCRIPTION:少人数でのMetaCAMスクール　※オンラインで開催\n【費用】\n　20\,000円/１日（税別）\n　　2DCAD/CAM/2日間コース：40\,000円（税別）\n　　3D CAD/CAM/3日間コース：60\,000円（税別）\n※　8月  15日（木）で申し込みを締め切らせて頂きます。
URL:https://faservice.co.jp/event/metacam%e3%82%b9%e3%82%af%e3%83%bc%e3%83%ab-cam-nesting%ef%bc%88%e3%82%aa%e3%83%b3%e3%83%a9%e3%82%a4%e3%83%b3%ef%bc%89-84/
CATEGORIES:MetaCAM school,School
END:VEVENT
BEGIN:VEVENT
DTSTART;TZID=Asia/Tokyo:20240821T093000
DTEND;TZID=Asia/Tokyo:20240821T173000
DTSTAMP:20260424T042644
CREATED:20240620T053903Z
LAST-MODIFIED:20240620T053903Z
UID:4298-1724232600-1724261400@faservice.co.jp
SUMMARY:MetaCAMスクール 2DCAD（オンライン）
DESCRIPTION:少人数でのMetaCAMスクール　※オンラインで開催\n【費用】\n　20\,000円/１日（税別）\n　　2DCAD/CAM/2日間コース：40\,000円（税別）\n　　3D CAD/CAM/3日間コース：60\,000円（税別）\n※　8月  15日（木）で申し込みを締め切らせて頂きます。
URL:https://faservice.co.jp/event/metacam%e3%82%b9%e3%82%af%e3%83%bc%e3%83%ab-2dcad%ef%bc%88%e3%82%aa%e3%83%b3%e3%83%a9%e3%82%a4%e3%83%b3%ef%bc%89-85/
CATEGORIES:MetaCAM school,School
END:VEVENT
BEGIN:VEVENT
DTSTART;TZID=Asia/Tokyo:20240802T093000
DTEND;TZID=Asia/Tokyo:20240802T173000
DTSTAMP:20260424T042644
CREATED:20240620T053742Z
LAST-MODIFIED:20240620T053743Z
UID:4295-1722591000-1722619800@faservice.co.jp
SUMMARY:MetaCAMスクール 3DCAD（オンライン）
DESCRIPTION:少人数でのMetaCAMスクール　※オンラインで開催\n【費用】\n　20\,000円/１日（税別）\n　　2DCAD/CAM/2日間コース：40\,000円（税別）\n　　3D CAD/CAM/3日間コース：60\,000円（税別）\n※　7月  25日（木）で申し込みを締め切らせて頂きます。
URL:https://faservice.co.jp/event/metacam%e3%82%b9%e3%82%af%e3%83%bc%e3%83%ab-3dcad%ef%bc%88%e3%82%aa%e3%83%b3%e3%83%a9%e3%82%a4%e3%83%b3%ef%bc%89-83/
CATEGORIES:MetaCAM school,School
END:VEVENT
BEGIN:VEVENT
DTSTART;TZID=Asia/Tokyo:20240801T093000
DTEND;TZID=Asia/Tokyo:20240801T173000
DTSTAMP:20260424T042644
CREATED:20240620T053714Z
LAST-MODIFIED:20240620T053715Z
UID:4294-1722504600-1722533400@faservice.co.jp
SUMMARY:MetaCAMスクール CAM/NESTING（オンライン）
DESCRIPTION:少人数でのMetaCAMスクール　※オンラインで開催\n【費用】\n　20\,000円/１日（税別）\n　　2DCAD/CAM/2日間コース：40\,000円（税別）\n　　3D CAD/CAM/3日間コース：60\,000円（税別）\n※　7月  25日（木）で申し込みを締め切らせて頂きます。
URL:https://faservice.co.jp/event/metacam%e3%82%b9%e3%82%af%e3%83%bc%e3%83%ab-cam-nesting%ef%bc%88%e3%82%aa%e3%83%b3%e3%83%a9%e3%82%a4%e3%83%b3%ef%bc%89-83/
CATEGORIES:MetaCAM school,School
END:VEVENT
BEGIN:VEVENT
DTSTART;TZID=Asia/Tokyo:20240731T093000
DTEND;TZID=Asia/Tokyo:20240731T173000
DTSTAMP:20260424T042644
CREATED:20240620T053543Z
LAST-MODIFIED:20240620T053623Z
UID:4291-1722418200-1722447000@faservice.co.jp
SUMMARY:MetaCAMスクール 2DCAD（オンライン）
DESCRIPTION:少人数でのMetaCAMスクール　※オンラインで開催\n【費用】\n　20\,000円/１日（税別）\n　　2DCAD/CAM/2日間コース：40\,000円（税別）\n　　3D CAD/CAM/3日間コース：60\,000円（税別）\n※　7月  25日（木）で申し込みを締め切らせて頂きます。
URL:https://faservice.co.jp/event/metacam%e3%82%b9%e3%82%af%e3%83%bc%e3%83%ab-2dcad%ef%bc%88%e3%82%aa%e3%83%b3%e3%83%a9%e3%82%a4%e3%83%b3%ef%bc%89-84/
CATEGORIES:MetaCAM school,School
END:VEVENT
END:VCALENDAR